BEGIN:VCALENDAR
VERSION:2.0
PRODID:icalendar-ruby
CALSCALE:GREGORIAN
METHOD:PUBLISH
BEGIN:VEVENT
DTSTAMP:20260421T153359Z
UID:14-976464@westviewcommunitychurch.org
DTSTART:20230820T150000Z
DTEND:20230820T161500Z
CLASS:PUBLIC
CREATED:20260421T101747
DESCRIPTION:
LAST-MODIFIED:20260421T101747
LOCATION:West View Community Church
SUMMARY:Sunday Morning Worship
URL;VALUE=URI:https://www.westviewcommunitychurch.org/events/sunday-morning
 -worship/2023-08-20
ATTACH;FILENAME=456828858_948951230610613_2749707426068836591_n.jpg;FMTTYPE
 =image/jpeg:https://dq5pwpg1q8ru0.cloudfront.net/2024/11/17/14/46/06/c7486
 f30-33bd-4856-b757-358881c88daa/456828858_948951230610613_2749707426068836
 591_n.jpg
END:VEVENT
END:VCALENDAR
