BEGIN:VCALENDAR
VERSION:2.0
PRODID:icalendar-ruby
CALSCALE:GREGORIAN
METHOD:PUBLISH
BEGIN:VEVENT
DTSTAMP:20260422T221533Z
UID:19-979681@westviewcommunitychurch.org
DTSTART:20260916T223000Z
DTEND:20260916T233000Z
CLASS:PUBLIC
CREATED:20260422T163906
DESCRIPTION:Join us every Wednesday night at 6:30 PM in the fellowship hall
  for a wonderful time of community and spiritual growth. Bring your friend
 s\, your Bible\, and a snack to share.
LAST-MODIFIED:20260422T163906
LOCATION:West View Community Church
SUMMARY:Wednesday Nights •  Fellowship&Grow Together
URL;VALUE=URI:https://www.westviewcommunitychurch.org/events/wednesday-nigh
 ts-fellowship-grow-together--19/2026-09-16
ATTACH;FILENAME=1003314310931387226.jpeg;FMTTYPE=image/jpeg:https://dq5pwpg
 1q8ru0.cloudfront.net/2026/01/03/00/40/10/5698c920-685c-4bbd-9015-7ef8c127
 72b1/1003314310931387226.jpeg
ATTACH;FILENAME=1337833339329288820.jpeg;FMTTYPE=image/jpeg:https://dq5pwpg
 1q8ru0.cloudfront.net/2026/01/03/00/40/11/795797e1-198e-4942-9d34-98a30723
 4bd3/1337833339329288820.jpeg
ATTACH;FILENAME=IMG_2757.jpg;FMTTYPE=image/jpeg:https://dq5pwpg1q8ru0.cloud
 front.net/2026/01/03/00/40/11/719ec582-eb1b-4ba0-b679-cd795e660b90/IMG_275
 7.jpg
END:VEVENT
END:VCALENDAR
